BEGIN:VCALENDAR
PRODID:-//dvv-bw.de//dvv.Portalplattform//DE
VERSION:2.0
METHOD:PUBLISH
BEGIN:VEVENT
DTSTART:20260313T180000Z
DTEND:20260313T200000Z
DTSTAMP:20260313T180000Z
UID:669844676-669844554-1773356400000
SUMMARY:Generalversammlung ASC Kappel
LOCATION:Ringerverein ASC Kappel\, Allmendstraße 3\, 77966 Kappel-Grafenhausen
DESCRIPTION:Generalversammlung ASC Kappel
CLASS:PUBLIC
X-ALT-DESC;FMTTYPE=text/html:Generalversammlung ASC Kappel
END:VEVENT
END:VCALENDAR
