BEGIN:VCALENDAR
PRODID:-//dvv-bw.de//dvv.Portalplattform//DE
VERSION:2.0
METHOD:PUBLISH
BEGIN:VEVENT
DTSTART:20260314T133000Z
DTEND:20260314T160000Z
DTSTAMP:20260314T133000Z
UID:669494924-666799707-1773442800000
SUMMARY:Landfrauenkaffee
LOCATION:Seniorenwohnanlage Grafenhausen\, Rittistraße 2 B\, 77966 Kappel-Grafenhausen
DESCRIPTION:Landfrauenkaffee
CLASS:PUBLIC
X-ALT-DESC;FMTTYPE=text/html:Landfrauenkaffee
END:VEVENT
END:VCALENDAR
